BEGIN:VCALENDAR
VERSION:2.0
PRODID:-//Il Volatore - ECPv6.15.11//NONSGML v1.0//EN
CALSCALE:GREGORIAN
METHOD:PUBLISH
X-WR-CALNAME:Il Volatore
X-ORIGINAL-URL:https://ilvolatore.it
X-WR-CALDESC:Eventi per Il Volatore
REFRESH-INTERVAL;VALUE=DURATION:PT1H
X-Robots-Tag:noindex
X-PUBLISHED-TTL:PT1H
BEGIN:VTIMEZONE
TZID:Europe/Rome
BEGIN:DAYLIGHT
TZOFFSETFROM:+0100
TZOFFSETTO:+0200
TZNAME:CEST
DTSTART:20150329T010000
END:DAYLIGHT
BEGIN:STANDARD
TZOFFSETFROM:+0200
TZOFFSETTO:+0100
TZNAME:CET
DTSTART:20151025T010000
END:STANDARD
BEGIN:DAYLIGHT
TZOFFSETFROM:+0100
TZOFFSETTO:+0200
TZNAME:CEST
DTSTART:20160327T010000
END:DAYLIGHT
BEGIN:STANDARD
TZOFFSETFROM:+0200
TZOFFSETTO:+0100
TZNAME:CET
DTSTART:20161030T010000
END:STANDARD
BEGIN:DAYLIGHT
TZOFFSETFROM:+0100
TZOFFSETTO:+0200
TZNAME:CEST
DTSTART:20170326T010000
END:DAYLIGHT
BEGIN:STANDARD
TZOFFSETFROM:+0200
TZOFFSETTO:+0100
TZNAME:CET
DTSTART:20171029T010000
END:STANDARD
END:VTIMEZONE
BEGIN:VEVENT
DTSTART;TZID=Europe/Rome:20161110T180000
DTEND;TZID=Europe/Rome:20161110T200000
DTSTAMP:20260419T151807
CREATED:20161102T100843Z
LAST-MODIFIED:20161102T100843Z
UID:370-1478800800-1478808000@ilvolatore.it
SUMMARY:"Contro l'antimafia" il 10 Novembre a Sant'Agata di Militello
DESCRIPTION:Il 10 Novembre sono a Sant’Agata di Militello\, ospite del Comune\, per parlare di “Contro l’antimafia”. Appuntamento alle 18 e 30 alla Sala Rossa del Castello Gallego. Interverrà\, tra gli altri\, l’avvocato Fabio Repici. \n 
URL:https://ilvolatore.it/event/contro-lantimafia-il-10-novembre-a-santagata-di-militello/
LOCATION:Castello Gallego\, Sant'Agata di Militello
CATEGORIES:Contro l'antimafia
ATTACH;FMTTYPE=image/jpeg:https://ilvolatore.it/wp-content/uploads/2016/11/locandina-DEFINITIVA.jpg
END:VEVENT
END:VCALENDAR